BEGIN:VCALENDAR
VERSION:2.0
PRODID:-//wp-events-plugin.com//7.2.3.1//EN
TZID:America/Chicago
X-WR-TIMEZONE:America/Chicago
BEGIN:VEVENT
UID:29@spartapubliclibrary.com
DTSTART;TZID=America/Chicago:20220603T130000
DTEND;TZID=America/Chicago:20220603T140000
DTSTAMP:20220525T194929Z
URL:https://www.spartapubliclibrary.com/events/lemon-zest-books-are-best-f
 or-ages-5-9yrs/
SUMMARY:Lemon Zest\, Books are Best for Ages 5-9yrs
DESCRIPTION:
END:VEVENT
BEGIN:VTIMEZONE
TZID:America/Chicago
X-LIC-LOCATION:America/Chicago
BEGIN:DAYLIGHT
DTSTART:20220313T030000
TZOFFSETFROM:-0600
TZOFFSETTO:-0500
TZNAME:CDT
END:DAYLIGHT
END:VTIMEZONE
END:VCALENDAR